BEGIN:VCALENDAR
VERSION:2.0
PRODID:-//Tukios.com/
BEGIN:VEVENT
UID:c54c2ccd-8f12-42e1-9972-79e56403cb25@www.mclanefuneralservices.com
DTSTAMP:20260425T210521Z
DTSTART:20260427T150000Z
DTEND:20260427T160000Z
SUMMARY:Graveside Service
DESCRIPTION:
URL:https://www.mclanefuneralservices.com/obituaries/sara-ellen-dasher-white
LOCATION:Dasher Cemetery 3724 Carroll Ulmer Road  Valdosta GA 31601
GEO:30.7502443;-83.2276215
END:VEVENT
END:VCALENDAR