BEGIN:VCALENDAR
VERSION:2.0
PRODID:-//Tukios.com/
BEGIN:VEVENT
UID:1a1cc6ea-92d6-46cd-87c4-6c3f8c26828e@www.mclanefuneralservices.com
DTSTAMP:20260424T224214Z
DTSTART:20260521T150000Z
DTEND:20260521T160000Z
SUMMARY:Graveside Service
DESCRIPTION:
URL:https://www.mclanefuneralservices.com/obituaries/peggy-peterson
LOCATION:Lake Park Cemetery  Ocean Pond Road  Lake Park GA 31636
GEO:30.6769136;-83.188528
END:VEVENT
END:VCALENDAR