BEGIN:VCALENDAR
VERSION:2.0
PRODID:-//Tukios.com/
BEGIN:VEVENT
UID:0909e5ff-015d-428e-b9e1-d92d14837f8a@www.mclanefuneralservices.com
DTSTAMP:20260421T001455Z
DTSTART:20260422T210000Z
DTEND:20260422T230000Z
SUMMARY:Visitation
DESCRIPTION:
URL:https://www.mclanefuneralservices.com/obituaries/kenneth-barton
LOCATION:Carson McLane Funeral Home 2215 N. Patterson St.  Valdosta GA 
	31602
GEO:30.8574718;-83.2885189
END:VEVENT
END:VCALENDAR