BEGIN:VCALENDAR
VERSION:2.0
PRODID:-//Tukios.com/
BEGIN:VEVENT
UID:50733a48-c1b7-46d3-bbc1-32825973dea4@www.mclanefuneralservices.com
DTSTAMP:20260421T001617Z
DTSTART:20260423T190000Z
DTEND:20260423T200000Z
SUMMARY:Burial
DESCRIPTION:
URL:https://www.mclanefuneralservices.com/obituaries/kenneth-barton
LOCATION: 6571 Union Road  Hahira GA 31632
GEO:30.9733524;-83.3785007
END:VEVENT
END:VCALENDAR