BEGIN:VCALENDAR
VERSION:2.0
PRODID:-//Tukios.com/
BEGIN:VEVENT
UID:9159ff05-de1f-4ca7-8dbd-6217a281c3c1@www.mclanefuneralservices.com
DTSTAMP:20260421T001705Z
DTSTART:20260423T150000Z
DTEND:20260423T160000Z
SUMMARY:Funeral Service
DESCRIPTION:
URL:https://www.mclanefuneralservices.com/obituaries/kenneth-barton
LOCATION:Homerville Free Will Baptist 855 Pearson Hwy  Homerville GA 
	31634
GEO:31.0456211;-82.7553834
END:VEVENT
END:VCALENDAR