BEGIN:VCALENDAR
VERSION:2.0
PRODID:-//Tukios.com/
BEGIN:VEVENT
UID:f6943d45-2615-444b-89dc-7134f0eb9d44@www.mclanefuneralservices.com
DTSTAMP:20260425T181919Z
DTSTART:20260427T170000Z
DTEND:20260427T180000Z
SUMMARY:Visitation
DESCRIPTION:
URL:https://www.mclanefuneralservices.com/obituaries/ken-lokey
LOCATION:Carson McLane Funeral Home 2215 N. Patterson St.  Valdosta GA 
	31602
GEO:30.8574718;-83.2885189
END:VEVENT
END:VCALENDAR