BEGIN:VCALENDAR
VERSION:2.0
PRODID:-//Tukios.com/
BEGIN:VEVENT
UID:27abb6d5-6456-4345-ba18-398cb4fc1b9d@www.mclanefuneralservices.com
DTSTAMP:20260420T224110Z
DTSTART:20260422T180000Z
DTEND:20260422T190000Z
SUMMARY:Funeral Service
DESCRIPTION:
URL:https://www.mclanefuneralservices.com/obituaries/edwin-s-syford
LOCATION: 200 East Park Avenue  Valdosta GA 31602
GEO:30.8572231;-83.2863038
END:VEVENT
END:VCALENDAR