BEGIN:VCALENDAR
VERSION:2.0
PRODID:-//Tukios.com/
BEGIN:VEVENT
UID:45ff7dac-b59c-49d3-a774-bc8c10a77b30@www.mclanefuneralservices.com
DTSTAMP:20260421T163223Z
DTSTART:20260422T180000Z
DTEND:20260422T190000Z
SUMMARY:Memorial Service
DESCRIPTION:
URL:https://www.mclanefuneralservices.com/obituaries/connie-vielmas
LOCATION: 4888 Rocky Ford Road  Valdosta GA 31601
GEO:30.7173;-83.3854
END:VEVENT
END:VCALENDAR