BEGIN:VCALENDAR
VERSION:2.0
PRODID:-//Tukios.com/
BEGIN:VEVENT
UID:b1d6c210-c843-4b0a-aa86-762a8e7708a6@www.mclanefuneralservices.com
DTSTAMP:20260421T083554Z
DTSTART:20260417T180000Z
DTEND:20260417T190000Z
SUMMARY:Funeral Service
DESCRIPTION:
URL:https://www.mclanefuneralservices.com/obituaries/bobby-davis
LOCATION:Dasher Church of Christ 4326 Dasher Road  Valdosta GA 31601
GEO:30.7470795;-83.222911
END:VEVENT
END:VCALENDAR