BEGIN:VCALENDAR
VERSION:2.0
PRODID:-//Tukios.com/
BEGIN:VEVENT
UID:53dc013f-5c84-48d1-91ba-cf50cba2a9cf@www.mclanefuneralservices.com
DTSTAMP:20260421T083540Z
DTSTART:20260417T170000Z
DTEND:20260417T180000Z
SUMMARY:Visitation
DESCRIPTION:
URL:https://www.mclanefuneralservices.com/obituaries/bobby-davis
LOCATION:Dasher Church of Christ 4326 Dasher Road  Valdosta GA 31601
GEO:30.7470795;-83.222911
END:VEVENT
END:VCALENDAR